BEGIN:VCALENDAR
VERSION:2.0
PRODID:-//wp-events-plugin.com//7.2.3.1//EN
TZID:Europe/Paris
X-WR-TIMEZONE:Europe/Paris
BEGIN:VEVENT
UID:17@muco-cftr.fr
DTSTART;TZID=Europe/Paris;VALUE=DATE:20240315
DTEND;TZID=Europe/Paris;VALUE=DATE:20240316
DTSTAMP:20240320T131215Z
URL:https://muco-cftr.fr/events/gethem/
SUMMARY:GETHEM
DESCRIPTION:à Nantes
CATEGORIES:Education Thérapeutique
END:VEVENT
BEGIN:VTIMEZONE
TZID:Europe/Paris
X-LIC-LOCATION:Europe/Paris
BEGIN:STANDARD
DTSTART:20231029T020000
TZOFFSETFROM:+0200
TZOFFSETTO:+0100
TZNAME:CET
END:STANDARD
END:VTIMEZONE
END:VCALENDAR