BEGIN:VCALENDAR
VERSION:2.0
PRODID:-//wp-events-plugin.com//7.2.3.1//EN
TZID:Europe/Paris
X-WR-TIMEZONE:Europe/Paris
BEGIN:VEVENT
UID:48@muco-cftr.fr
DTSTART;TZID=Europe/Paris;VALUE=DATE:20260326
DTEND;TZID=Europe/Paris;VALUE=DATE:20260329
DTSTAMP:20250922T163751Z
URL:https://muco-cftr.fr/events/journees-francophones-de-la-mucoviscidose-
 2026/
SUMMARY:Journées Francophones de la Mucoviscidose 2026
DESCRIPTION:
LOCATION:Montpellier\, Corum\, Montpellier\, France
X-APPLE-STRUCTURED-LOCATION;VALUE=URI;X-ADDRESS=Corum\, Montpellier\, Franc
 e;X-APPLE-RADIUS=100;X-TITLE=Montpellier:geo:0,0
END:VEVENT
BEGIN:VTIMEZONE
TZID:Europe/Paris
X-LIC-LOCATION:Europe/Paris
BEGIN:STANDARD
DTSTART:20251026T020000
TZOFFSETFROM:+0200
TZOFFSETTO:+0100
TZNAME:CET
END:STANDARD
END:VTIMEZONE
END:VCALENDAR